BEGIN:VCALENDAR
VERSION:2.0
PRODID:-//Newby Hall - ECPv6.15.18//NONSGML v1.0//EN
CALSCALE:GREGORIAN
METHOD:PUBLISH
X-WR-CALNAME:Newby Hall
X-ORIGINAL-URL:https://www.newbyhall.com
X-WR-CALDESC:Events for Newby Hall
REFRESH-INTERVAL;VALUE=DURATION:PT1H
X-Robots-Tag:noindex
X-PUBLISHED-TTL:PT1H
BEGIN:VTIMEZONE
TZID:Europe/London
BEGIN:DAYLIGHT
TZOFFSETFROM:+0000
TZOFFSETTO:+0100
TZNAME:BST
DTSTART:20240331T010000
END:DAYLIGHT
BEGIN:STANDARD
TZOFFSETFROM:+0100
TZOFFSETTO:+0000
TZNAME:GMT
DTSTART:20241027T010000
END:STANDARD
BEGIN:DAYLIGHT
TZOFFSETFROM:+0000
TZOFFSETTO:+0100
TZNAME:BST
DTSTART:20250330T010000
END:DAYLIGHT
BEGIN:STANDARD
TZOFFSETFROM:+0100
TZOFFSETTO:+0000
TZNAME:GMT
DTSTART:20251026T010000
END:STANDARD
BEGIN:DAYLIGHT
TZOFFSETFROM:+0000
TZOFFSETTO:+0100
TZNAME:BST
DTSTART:20260329T010000
END:DAYLIGHT
BEGIN:STANDARD
TZOFFSETFROM:+0100
TZOFFSETTO:+0000
TZNAME:GMT
DTSTART:20261025T010000
END:STANDARD
END:VTIMEZONE
BEGIN:VEVENT
DTSTART;TZID=Europe/London:20250911T190000
DTEND;TZID=Europe/London:20250911T203000
DTSTAMP:20260420T174936
CREATED:20250221T120911Z
LAST-MODIFIED:20250221T121356Z
UID:18814-1757617200-1757622600@www.newbyhall.com
SUMMARY:Jane Austen’s Pride & Prejudice
DESCRIPTION:Join us for a captivating performance of Jane Austen’s Pride & Prejudice on Thursday\, 11th September 2025\, at the Church of Christ The Consoler in Skelton-on-Ure\, Ripon. This special adaptation by the acclaimed This Is My Theatre company commemorates the 250th anniversary of Austen’s birth. \nImmerse yourself in the world of the Bennet family as they navigate societal expectations\, romantic entanglements\, and personal misjudgments. This one-act play\, directed by Sarah Slator and adapted by Ethan Taylor\, brings to life the wit and romance of Austen’s classic tale. \nEvent Details: \n\nDate & Time: Thursday\, 11th September 2025\, 7:00 PM – 8:30 PM\nVenue: Church of Christ The Consoler\, Skelton-on-Ure\, Ripon\, HG4 5EG\nRunning Time: Approximately 85 minutes\nSeating: Provided\nAmenities: Toilets available on-site\nParking: Available within the village\, a short walk from the venue. Parking stewards will assist as needed.\n\nAdditional Information: \n\nThe performance will take place indoors.\nHistoric venues like this can be cold; please dress warmly.\nFood and drink are not permitted inside the church.\nOnly guide dogs are allowed.\nThe venue is wheelchair accessible. For specific access requirements\, contact the Box Office at 07981 227790 before the performance date.\nLatecomers will not be admitted.\n\nDon’t miss this enchanting adaptation that critics have praised as “rich in detail and a joy to experience.” Secure your tickets now and relive the romance and drama of Pride & Prejudice in a unique and historic setting. \nFor tickets and more information\, visit: https://www.tickettailor.com/events/cuemarketing/1525835 \nWe look forward to welcoming you to an evening of timeless storytelling and memorable performances.
URL:https://www.newbyhall.com/event/pride-prejudice/
LOCATION:Church of Christ the Consoler\, Christ the Consoler\, Newby Hall\, Skelton on Ure
ATTACH;FMTTYPE=image/png:https://www.newbyhall.com/wp-content/uploads/2025/02/pride-1.png
END:VEVENT
END:VCALENDAR