BEGIN:VCALENDAR
VERSION:2.0
PRODID:-//Newby Hall - ECPv6.15.18//NONSGML v1.0//EN
CALSCALE:GREGORIAN
METHOD:PUBLISH
X-WR-CALNAME:Newby Hall
X-ORIGINAL-URL:https://www.newbyhall.com
X-WR-CALDESC:Events for Newby Hall
REFRESH-INTERVAL;VALUE=DURATION:PT1H
X-Robots-Tag:noindex
X-PUBLISHED-TTL:PT1H
BEGIN:VTIMEZONE
TZID:Europe/London
BEGIN:DAYLIGHT
TZOFFSETFROM:+0000
TZOFFSETTO:+0100
TZNAME:BST
DTSTART:20210328T010000
END:DAYLIGHT
BEGIN:STANDARD
TZOFFSETFROM:+0100
TZOFFSETTO:+0000
TZNAME:GMT
DTSTART:20211031T010000
END:STANDARD
BEGIN:DAYLIGHT
TZOFFSETFROM:+0000
TZOFFSETTO:+0100
TZNAME:BST
DTSTART:20220327T010000
END:DAYLIGHT
BEGIN:STANDARD
TZOFFSETFROM:+0100
TZOFFSETTO:+0000
TZNAME:GMT
DTSTART:20221030T010000
END:STANDARD
BEGIN:DAYLIGHT
TZOFFSETFROM:+0000
TZOFFSETTO:+0100
TZNAME:BST
DTSTART:20230326T010000
END:DAYLIGHT
BEGIN:STANDARD
TZOFFSETFROM:+0100
TZOFFSETTO:+0000
TZNAME:GMT
DTSTART:20231029T010000
END:STANDARD
END:VTIMEZONE
BEGIN:VEVENT
DTSTART;TZID=Europe/London:20220618T120000
DTEND;TZID=Europe/London:20220618T143000
DTSTAMP:20260420T191700
CREATED:20220614T154234Z
LAST-MODIFIED:20220615T142942Z
UID:15752-1655553600-1655562600@www.newbyhall.com
SUMMARY:Dishforth Military Wives Performance
DESCRIPTION:Join us on Saturday 18th June 2022 and enjoy three afternoon performances by the Dishforth Military Wives Choir.\nThe Dishforth Military Wives Choir are celebrating their 10th year singing together this year.\nSimply book a Garden Admission ticket for Saturday 18th June and enjoy the 30 minute performances.\n12 noon\, 1.30pm & 2.30pm outside the Restaurant.\n\nAdmission is included in your Gardens ticket\, Newby Hall season ticket and Historic Houses membership.\n\nGARDENS ADMISSION TICKET
URL:https://www.newbyhall.com/event/dishforth-military-wives-performance-saturday-18th-june-2022/
ATTACH;FMTTYPE=image/jpeg:https://www.newbyhall.com/wp-content/uploads/2022/06/Dishforth-Military-Wives-2-scaled.jpg
END:VEVENT
END:VCALENDAR