BEGIN:VCALENDAR
VERSION:2.0
PRODID:-//Newby Hall - ECPv6.15.18//NONSGML v1.0//EN
CALSCALE:GREGORIAN
METHOD:PUBLISH
X-WR-CALNAME:Newby Hall
X-ORIGINAL-URL:https://www.newbyhall.com
X-WR-CALDESC:Events for Newby Hall
REFRESH-INTERVAL;VALUE=DURATION:PT1H
X-Robots-Tag:noindex
X-PUBLISHED-TTL:PT1H
BEGIN:VTIMEZONE
TZID:Europe/London
BEGIN:DAYLIGHT
TZOFFSETFROM:+0000
TZOFFSETTO:+0100
TZNAME:BST
DTSTART:20210328T010000
END:DAYLIGHT
BEGIN:STANDARD
TZOFFSETFROM:+0100
TZOFFSETTO:+0000
TZNAME:GMT
DTSTART:20211031T010000
END:STANDARD
BEGIN:DAYLIGHT
TZOFFSETFROM:+0000
TZOFFSETTO:+0100
TZNAME:BST
DTSTART:20220327T010000
END:DAYLIGHT
BEGIN:STANDARD
TZOFFSETFROM:+0100
TZOFFSETTO:+0000
TZNAME:GMT
DTSTART:20221030T010000
END:STANDARD
BEGIN:DAYLIGHT
TZOFFSETFROM:+0000
TZOFFSETTO:+0100
TZNAME:BST
DTSTART:20230326T010000
END:DAYLIGHT
BEGIN:STANDARD
TZOFFSETFROM:+0100
TZOFFSETTO:+0000
TZNAME:GMT
DTSTART:20231029T010000
END:STANDARD
BEGIN:DAYLIGHT
TZOFFSETFROM:+0000
TZOFFSETTO:+0100
TZNAME:BST
DTSTART:20240331T010000
END:DAYLIGHT
BEGIN:STANDARD
TZOFFSETFROM:+0100
TZOFFSETTO:+0000
TZNAME:GMT
DTSTART:20241027T010000
END:STANDARD
END:VTIMEZONE
BEGIN:VEVENT
DTSTART;TZID=Europe/London:20230826T110000
DTEND;TZID=Europe/London:20230828T163000
DTSTAMP:20260421T045736
CREATED:20230808T092655Z
LAST-MODIFIED:20231211T150009Z
UID:17399-1693047600-1693240200@www.newbyhall.com
SUMMARY:Miniature Steam Engine Gala
DESCRIPTION:Join us from Saturday\, August 24 to Monday\, August 26 for our miniature steam engine gala.\nThe bank holiday event will celebrate the anniversaries of two of our engines\, The Royal Scot and Countess de Grey miniature engines which are marking 70 and 50 years of passenger service\, respectively. \nWe first opened our own miniature railway in 1971 and have since welcomed more than two million passengers. \nTo help us celebrate we will be welcoming two visiting miniature steam engines that will run alongside the Royal Scot across the weekend. \nAdmission is included in your Gardens ticket\, Newby Hall season ticket\, and Historic Houses membership. \nSimply book a Garden Admission ticket for any of the days and then it’s £3 per ride on the miniature railway. Under 2s are free. \n \n 
URL:https://www.newbyhall.com/event/miniature-steam-engine-gala/
ATTACH;FMTTYPE=image/png:https://www.newbyhall.com/wp-content/uploads/2023/08/P1120814-2.png
END:VEVENT
BEGIN:VEVENT
DTSTART;TZID=Europe/London:20230508T110000
DTEND;TZID=Europe/London:20230508T170000
DTSTAMP:20260421T045736
CREATED:20230420T131657Z
LAST-MODIFIED:20230511T095047Z
UID:16840-1683543600-1683565200@www.newbyhall.com
SUMMARY:Coronation Celebrations Monday 8th May
DESCRIPTION:Come and join us on our award winning herbaceous borders to celebrate the Coronation of King Charles III on Monday 8th May from 3pm – 5pm.\nLive music from ‘ The Frankly Jazz Quartet’ will bring the celebrations to life with some rousing sing-a-long songs to finish.\nBuy your Garden admission online for Monday 8th May.\nJoin us on the herbaceous borders from 3pm\, where you can photograph your family on our oversized ‘throne’ or wearing the replica Saint Edwards Crown.\nWe look forward to seeing you all there\, regardless of the weather\, brollies\, crowns\, flags and patriotic dress welcome!\nClick here to buy tickets\nSORRY NO DOGS ALLOWED AT THIS EVENT AS IT IS HELD IN THE NEWBY GARDENS.\n 
URL:https://www.newbyhall.com/event/coronation-afternoon-tea-celebrations-monday-8th-may/
ATTACH;FMTTYPE=image/png:https://www.newbyhall.com/wp-content/uploads/2023/04/Coronation-Afternoon-Tea-Event-Image.png
END:VEVENT
BEGIN:VEVENT
DTSTART;TZID=Europe/London:20220814T100000
DTEND;TZID=Europe/London:20220814T160000
DTSTAMP:20260421T045736
CREATED:20220304T114015Z
LAST-MODIFIED:20220814T061550Z
UID:15399-1660471200-1660492800@www.newbyhall.com
SUMMARY:Summer Jaguar Festival 2022
DESCRIPTION:The Jaguar Enthusiasts’ Club present the Summer Jaguar Festival\nSun 14th Aug 2022 10am – 4pm\nJoin us at Newby Hall in the stunningly beautiful area of North Yorkshire\, for the Summer Jaguar Festival 2022. \nThis event offers a spectacular festival of all things Jaguar with lots of exciting new features for you and all the family to enjoy. \nFollowing on from the hugely successful Bicester Heritage event in 2021\, where over 1700 Jaguars attended\, we are excited to host the Jaguar Enthusiasts’ Club.  Members of the club will be parked in the festival area providing a great display of Jaguars both classic and modern and on hand to talk about everything Jaguar! \nThis festival will include special displays of Jaguars across all era’s\, a new ‘moving motor show’\, as well as live music\, a craft fair & trade stands.  Key club sponsors including SNG Barratt\, Pirelli and Meguiar’s\, and racing partner Swallows Jaguar\, will also join us so keep an eye out on the Jaguar Enthusiasts’ Club website for more details:- \nSummer Jaguar Festival 2022 – JEC Events – for info and JEC member tickets \nOn the day gate price £18 Adult & £14 Child\nClick here for visitor tickets \nChild price applies to 4 – 15 yrs \nFree Entry for Under 4 yrs \nDogs are allowed on the show field\, but they are NOT permitted in the gardens. Please see the pan your visit tab on our website to see the permitted areas. \n 
URL:https://www.newbyhall.com/event/summer-jaguar-festival-2022/
ATTACH;FMTTYPE=image/jpeg:https://www.newbyhall.com/wp-content/uploads/2022/03/web5-lr.jpg
END:VEVENT
BEGIN:VEVENT
DTSTART;TZID=Europe/London:20220715T120000
DTEND;TZID=Europe/London:20220715T150000
DTSTAMP:20260421T045736
CREATED:20220629T103522Z
LAST-MODIFIED:20220629T103704Z
UID:15940-1657886400-1657897200@www.newbyhall.com
SUMMARY:The York String Quartet
DESCRIPTION:Join us on Friday 15th July 2022 and enjoy performances by The York String Quartet. \nAdmission is included in your Gardens ticket\, Newby Hall season ticket and Historic Houses membership & YGHCG membership. \nThe York String Quartet is a highly professional\, experienced quartet which specialises in providing elegant string music of the highest quality for weddings\, events\, parties and corporate functions throughout Yorkshire and the North East. \nThe players are all professional musicians who are established chamber music and orchestral players. All of the quartet members have spent many years playing across Europe with the top British orchestras\, such as The Philharmonia\, the BBC Symphony Orchestra\, Royal Liverpool Philharmonic Orchestra\, English National Opera\, and of course\, the Orchestra of Opera North. \nThey have a huge repertoire which ranges from wedding favourites and classical music to pop\, jazz and show songs. \nSimply book a Garden Admission ticket for Friday 15th July and enjoy the performances outside the Restaurant.
URL:https://www.newbyhall.com/event/the-york-string-quartet/
ATTACH;FMTTYPE=image/jpeg:https://www.newbyhall.com/wp-content/uploads/2022/06/York-string-quartet.jpg
END:VEVENT
BEGIN:VEVENT
DTSTART;TZID=Europe/London:20220618T120000
DTEND;TZID=Europe/London:20220618T143000
DTSTAMP:20260421T045736
CREATED:20220614T154234Z
LAST-MODIFIED:20220615T142942Z
UID:15752-1655553600-1655562600@www.newbyhall.com
SUMMARY:Dishforth Military Wives Performance
DESCRIPTION:Join us on Saturday 18th June 2022 and enjoy three afternoon performances by the Dishforth Military Wives Choir.\nThe Dishforth Military Wives Choir are celebrating their 10th year singing together this year.\nSimply book a Garden Admission ticket for Saturday 18th June and enjoy the 30 minute performances.\n12 noon\, 1.30pm & 2.30pm outside the Restaurant.\n\nAdmission is included in your Gardens ticket\, Newby Hall season ticket and Historic Houses membership.\n\nGARDENS ADMISSION TICKET
URL:https://www.newbyhall.com/event/dishforth-military-wives-performance-saturday-18th-june-2022/
ATTACH;FMTTYPE=image/jpeg:https://www.newbyhall.com/wp-content/uploads/2022/06/Dishforth-Military-Wives-2-scaled.jpg
END:VEVENT
BEGIN:VEVENT
DTSTART;VALUE=DATE:20220616
DTEND;VALUE=DATE:20221004
DTSTAMP:20260421T045736
CREATED:20220607T145105Z
LAST-MODIFIED:20220629T154425Z
UID:15721-1655337600-1664841599@www.newbyhall.com
SUMMARY:Newby22 Sculpture Park
DESCRIPTION:Stunning contemporary sculpture by established and emerging artists ranging in styles and mediums\, set in Newby Hall’s beautiful woodland and riverside gardens accessed with a gardens admission ticket. \nThe sculpture park is open to the public from Friday 17th June. All the works are for sale. If you do wish to enquire about making a purchase or to learn more about any of the works\, please email sculptures@newbyhall.com or speak to a member of the team at the Entrance Pavilion when you visit.
URL:https://www.newbyhall.com/event/newby22-sculpture-park/
LOCATION:Newby Hall\, Newby Hall\, Ripon\, North Yorkshire\, HG4 5AE\, United Kingdom
ATTACH;FMTTYPE=image/jpeg:https://www.newbyhall.com/wp-content/uploads/2022/05/Owl-by-Charlie-Smith-photo-credit-Cristina-Schek-24.jpg
ORGANIZER;CN="Newby Hall":MAILTO:info@newbyhall.com
END:VEVENT
END:VCALENDAR