BEGIN:VCALENDAR
VERSION:2.0
PRODID:-//Newby Hall - ECPv6.15.18//NONSGML v1.0//EN
CALSCALE:GREGORIAN
METHOD:PUBLISH
X-WR-CALNAME:Newby Hall
X-ORIGINAL-URL:https://www.newbyhall.com
X-WR-CALDESC:Events for Newby Hall
REFRESH-INTERVAL;VALUE=DURATION:PT1H
X-Robots-Tag:noindex
X-PUBLISHED-TTL:PT1H
BEGIN:VTIMEZONE
TZID:Europe/London
BEGIN:DAYLIGHT
TZOFFSETFROM:+0000
TZOFFSETTO:+0100
TZNAME:BST
DTSTART:20230326T010000
END:DAYLIGHT
BEGIN:STANDARD
TZOFFSETFROM:+0100
TZOFFSETTO:+0000
TZNAME:GMT
DTSTART:20231029T010000
END:STANDARD
BEGIN:DAYLIGHT
TZOFFSETFROM:+0000
TZOFFSETTO:+0100
TZNAME:BST
DTSTART:20240331T010000
END:DAYLIGHT
BEGIN:STANDARD
TZOFFSETFROM:+0100
TZOFFSETTO:+0000
TZNAME:GMT
DTSTART:20241027T010000
END:STANDARD
BEGIN:DAYLIGHT
TZOFFSETFROM:+0000
TZOFFSETTO:+0100
TZNAME:BST
DTSTART:20250330T010000
END:DAYLIGHT
BEGIN:STANDARD
TZOFFSETFROM:+0100
TZOFFSETTO:+0000
TZNAME:GMT
DTSTART:20251026T010000
END:STANDARD
END:VTIMEZONE
BEGIN:VEVENT
DTSTART;TZID=Europe/London:20240706T170000
DTEND;TZID=Europe/London:20240706T193000
DTSTAMP:20260421T131853
CREATED:20240228T151250Z
LAST-MODIFIED:20240628T094720Z
UID:17674-1720285200-1720294200@www.newbyhall.com
SUMMARY:The Adventures of Doctor Dolittle - Open Air Theatre
DESCRIPTION:A RIPON THEATRE FESTIVAL Event \nIllyria is back! \nDoctor Dolittle leads a simple life as a village doctor. But one day\, with the help of his wise old parrot Polynesia\, he makes an extraordinary discovery: that he can talk to animals! Hugh Lofting’s timeless classic celebrates empathy and inspires us all to see the world through the eyes of animals. This funny\, exciting new family musical is performed with flair and wit by Illyria in the great outdoors. \n \nBy Hugh Lofting. Adapted by Oliver Grey. Presented by Illyria.\nRunning time (approx): 1hr 50mins (including 20 minute interval). Suitable for ages 5+ \nSponsored by Elstob Auctioneers \nPlease bring your own rug or folding chairs (but no umbrellas!)\, picnics welcome.\nDogs are NOT allowed at the performance.\nPerformance continues regardless of weather. \nTickets include access to Newby’s award-winning gardens from 1 pm on the day of the performance. \nEvent Details\nAdmission From 5:00PM\nStarts at 5:30PM \nPrice\nIndividual ticket price\n£11.00 – £17.00\nGroup ticket price\n£50.00 \nBuy Tickets – https://www.ticketsource.co.uk/ripon-theatre-festival/the-adventures-of-doctor-doolittle/2024-07-06/17:30/t-yamgyjv \nLocation\nNewby Hall & Gardens\, Ripon\, HG4 5AE
URL:https://www.newbyhall.com/event/the-adventures-of-doctor-doolittle-open-air-theatre/
ATTACH;FMTTYPE=image/jpeg:https://www.newbyhall.com/wp-content/uploads/2024/02/download.jpg
END:VEVENT
BEGIN:VEVENT
DTSTART;TZID=Europe/London:20240713T193000
DTEND;TZID=Europe/London:20240713T213000
DTSTAMP:20260421T131853
CREATED:20240418T085155Z
LAST-MODIFIED:20240418T132023Z
UID:17800-1720899000-1720906200@www.newbyhall.com
SUMMARY:Albert Lau - International Steinway Artist
DESCRIPTION:Albert Lau \n \nAlbert was born in Hong Kong and performs internationally both as a solo pianist and chamber musician. \nHe was named a Steinway artist by Steinway and Sons in 2022. \nSchubert – Impromptus \nRavel – Le Tombeau Couperin \nLiszt – Les Jeux d’eaux a la villa d’este\, vallee d’obermann \nWith some gems by Mompou & Boulanger \nSaturday 13th July \nBuy your tickets here
URL:https://www.newbyhall.com/event/albert-lau-international-steinway-artist/
LOCATION:Church of Christ the Consoler\, Christ the Consoler\, Newby Hall\, Skelton on Ure
ATTACH;FMTTYPE=image/png:https://www.newbyhall.com/wp-content/uploads/2024/04/DJI_0421-min.png
END:VEVENT
END:VCALENDAR