BEGIN:VCALENDAR
VERSION:2.0
PRODID:-//Newby Hall - ECPv6.15.18//NONSGML v1.0//EN
CALSCALE:GREGORIAN
METHOD:PUBLISH
X-WR-CALNAME:Newby Hall
X-ORIGINAL-URL:https://www.newbyhall.com
X-WR-CALDESC:Events for Newby Hall
REFRESH-INTERVAL;VALUE=DURATION:PT1H
X-Robots-Tag:noindex
X-PUBLISHED-TTL:PT1H
BEGIN:VTIMEZONE
TZID:Europe/London
BEGIN:DAYLIGHT
TZOFFSETFROM:+0000
TZOFFSETTO:+0100
TZNAME:BST
DTSTART:20240331T010000
END:DAYLIGHT
BEGIN:STANDARD
TZOFFSETFROM:+0100
TZOFFSETTO:+0000
TZNAME:GMT
DTSTART:20241027T010000
END:STANDARD
BEGIN:DAYLIGHT
TZOFFSETFROM:+0000
TZOFFSETTO:+0100
TZNAME:BST
DTSTART:20250330T010000
END:DAYLIGHT
BEGIN:STANDARD
TZOFFSETFROM:+0100
TZOFFSETTO:+0000
TZNAME:GMT
DTSTART:20251026T010000
END:STANDARD
BEGIN:DAYLIGHT
TZOFFSETFROM:+0000
TZOFFSETTO:+0100
TZNAME:BST
DTSTART:20260329T010000
END:DAYLIGHT
BEGIN:STANDARD
TZOFFSETFROM:+0100
TZOFFSETTO:+0000
TZNAME:GMT
DTSTART:20261025T010000
END:STANDARD
END:VTIMEZONE
BEGIN:VEVENT
DTSTART;TZID=Europe/London:20250824T133000
DTEND;TZID=Europe/London:20250824T150000
DTSTAMP:20260420T175022
CREATED:20230701T142241Z
LAST-MODIFIED:20250611T080743Z
UID:17162-1756042200-1756047600@www.newbyhall.com
SUMMARY:Generation Groove Band Sunday 24th August 2025 1.30pm
DESCRIPTION:Join us on Sunday 24th August 2025 and enjoy performances by the Generation Groove Band.\nAdmission is included in your Gardens ticket\, Newby Hall season ticket and Historic Houses membership.\nSimply book a Garden Admission ticket for Sunday 24th August 2025 and enjoy the performances on the Restaurant lawn from 1:30pm. \nGeneration Groove is a community band based in Haxby\, North Yorkshire. Within the Generation Groove family they have three bands so they can offer a fun and friendly playing experience for every level. Their main band Generation Groove will be celebrating its 18th birthday this year and has come a long way from its very first meeting on the 1st August 2002. They began with just six members and rapidly grew over the next few weeks to over 21 players. In just four months they had grown to over forty members in the band many of whom had never played in a band before. They rely totally on subscriptions and donations and are a non profit making organisation. All proceeds from their concerts are reinvested back into the band providing items such as music\, music stands and other related equipment the band will need in order to continue these concerts. \nNo dogs at this event as it is in Newby Garden’s \nClick here to buy tickets
URL:https://www.newbyhall.com/event/groove-generation-band-sunday-3rd-september-1pm/
ATTACH;FMTTYPE=image/jpeg:https://www.newbyhall.com/wp-content/uploads/2023/07/Generation-Groove-Band-Photo.jpg
END:VEVENT
END:VCALENDAR